Workbook

Sheet Resumen Presupuesto propuesta
B3: SIRE-PL01 FORMATO PRESUPUESTO DGCINE
A6: LARGOMETRAJE | C6: PRE
A7: PRODUCTOR | C7: RODAJE
A8: DIRECTOR | C8: SEMANAS
A9: PREPARADO POR | C9: CREW
A10: LOCACIONES | C10: CAST
C11: EXTRAS
A12: VERSIÓN PRESUPUESTO NÚM. | C12: MONEDA
C13: FECHA PREP.
A15: ='[1]BUDGET - Table 1 MODIFICADA'!A12 -> Cta. No. | B15: ='[1]BUDGET - Table 1 MODIFICADA'!B12 -> Descripción | D15: Total RD$
A16: ='[1]BUDGET - Table 1 MODIFICADA'!A13 -> 1000 | B16: GUION | D16: ='Propuesta presupuesto detallado'!K13 -> 0
A17: 1100 | B17: PRODUCTOR GENERAL | D17: ='Propuesta presupuesto detallado'!K20 -> 0
A18: 1200 | B18: DIRECTOR | D18: ='Propuesta presupuesto detallado'!K24 -> 0
A19: 1300 | B19: CAST | D19: ='Propuesta presupuesto detallado'!K33 -> 0
A20: 1400 | B20: ATL VIAJES Y HOSPEDAJE | D20: ='Propuesta presupuesto detallado'!K45 -> 0
B21: Total Cuentas Desde 1000 Hasta 1400 | D21: =SUM(D16:D20) -> 0
A22: ='[1]BUDGET - Table 1 MODIFICADA'!A87 -> 1500 | B22: DEPARTAMENTO DE PRODUCCIÓN | D22: ='Propuesta presupuesto detallado'!K73 -> 0
A23: 1600 | B23: DEPARTAMENTO DE DIRECCIÓN | D23: ='Propuesta presupuesto detallado'!K91 -> 0
A24: 1700 | B24: EXTRAS / PARTICIPACIONES ESPECIALES | D24: ='Propuesta presupuesto detallado'!K125 -> 0
A25: 1800 | B25: DEPARTAMENTO DE CASTING | D25: ='Propuesta presupuesto detallado'!K142 -> 0
A26: 1900 | B26: DEPARTAMENTO DE ARTE | D26: ='Propuesta presupuesto detallado'!K171 -> 0
A27: 2000 | B27: DEPARTAMENTO DE DECORACIÓN | D27: ='Propuesta presupuesto detallado'!K186 -> 0
A28: 2100 | B28: CONSTRUCCIÓN DE SETS | D28: ='Propuesta presupuesto detallado'!K204 -> 0
A29: 2200 | B29: UTILERÍA | D29: ='Propuesta presupuesto detallado'!K222 -> 0
A30: 2300 | B30: VEHÍCULOS DE ESCENA | D30: ='Propuesta presupuesto detallado'!K243 -> 0
A31: 2400 | B31: ANIMALES EN ESCENA | D31: ='Propuesta presupuesto detallado'!K254 -> 0
A32: 2500 | B32: EFECTOS ESPECIALES | D32: ='Propuesta presupuesto detallado'!K264 -> 0
A33: 2600 | B33: DEPARTAMENTO DE VESTUARIO | D33: ='Propuesta presupuesto detallado'!K285 -> 0
A34: 2700 | B34: DEPARTAMENTO DE MAQUILLAJE Y PEINADO | D34: ='Propuesta presupuesto detallado'!K305 -> 0
A35: 2800 | B35: A&B | D35: ='Propuesta presupuesto detallado'!K320 -> 0
A36: 2900 | B36: OPERACIONES DE SET | D36: ='Propuesta presupuesto detallado'!K347 -> 0
A37: 3000 | B37: ILUMINACIÓN DE SET | D37: ='Propuesta presupuesto detallado'!K371 -> 0
A38: 3100 | B38: DEPARTAMENTO DE CÁMARA | D38: ='Propuesta presupuesto detallado'!K410 -> 0
A39: 3200 | B39: DEPARTAMENTO DE SONIDO | D39: ='Propuesta presupuesto detallado'!K424 -> 0
A40: 3300 | B40: DEPARTAMENTO DE LOCACIONES | D40: ='Propuesta presupuesto detallado'!K455 -> 0
A41: 3400 | B41: TRANSPORTACIÓN | D41: ='Propuesta presupuesto detallado'!K478 -> 0
A42: 3500 | B42: BTL VIAJES Y HOSPEDAJES | D42: ='Propuesta presupuesto detallado'!K490 -> 0
A43: 3600 | B43: ESTUDIO DE FILMACIÓN | D43: ='Propuesta presupuesto detallado'!K494 -> 0
A44: 3700 | B44: OFICINA DE PRODUCCIÓN | D44: ='Propuesta presupuesto detallado'!K509 -> 0
A45: 3800 | B45: RODAJE EN EL EXTRANJERO | D45: ='Propuesta presupuesto detallado'!K519 -> 0
...

Sheet Propuesta presupuesto detallado
A1: DGCINE
A2: FORMATO PRESUPUESTOS EXCEL | B2: SIRE-PL01 FORMATO PRESUPUESTO DGCINE
A4: Account | B4: 1000 | C4: Guion | D4: Descripción | E4: Cantidad | F4: Unidad | G4: X | H4: Monto unitario | I4: Sub-Total | J4: ITBIS 18% | K4: Total
B5: SUB CUENTA
A6: 1000 | B6: 1001 | C6: Guionista | D6: Nombre guionista | E6: 1 | F6: FLAT | G6: 1 | I6: =E6*G6*H6 -> 0 | J6: 0 | K6: =I6 -> 0
A7: 1000 | B7: 1002 | C7: Derechos de Autor | D7: Nombre de la obra | E7: 1 | F7: FLAT | G7: 1 | I7: =E7*G7*H7 -> 0 | J7: 0 | K7: =I7 -> 0
A8: 1000 | B8: 1003 | C8: Fotocopias de Guion | D8: Fotofopias de Guion | E8: 1 | F8: FLAT | G8: 1 | I8: =E8*G8*H8 -> 0 | J8: =I8*0.18 -> 0 | K8: =I8+J8 -> 0
A9: 1000 | B9: 1004 | C9: Asesoría de Guion | D9: Nombre / Asesoría de Guion | E9: 1 | F9: FLAT | G9: 1 | I9: =H9 -> 0 | J9: =I9*0.18 -> 0 | K9: =I9+J9 -> 0
A10: 1000 | B10: 1005 | C10: Storyboard | D10: Nombre proveedor Storyboard | E10: 1 | F10: FLAT | G10: 1 | H10: 0 | I10: =H10 -> 0 | J10: =I10*0.18 -> 0 | K10: =I10+J10 -> 0
B11: 1006 | C11: Traductor de guion para subtítulos | D11: Traductor de guion para subtítulos | E11: 1 | F11: POR PÁG. DE GUION | G11: 1 | I11: =H11 -> 0 | J11: =I11*0.18 -> 0 | K11: =I11+J11 -> 0
B12: 1007 | C12: Derechos de adaptación de libros | D12: Nombre suplidor | E12: 1 | F12: FLAT | G12: 1 | I12: =H12 -> 0 | J12: 0 | K12: =I12+J12 -> 0
A13: 1000 | B13: SUB TOTAL | I13: =SUM(I6:I12) -> 0 | J13: =SUM(J8:J11) -> 0 | K13: =SUM(K6:K12) -> 0
A14: Account | B14: 1100 | C14: Productor General | D14: Descripción | E14: Cantidad | F14: Unidad | G14: X | H14: Monto unitario | I14: Sub-Total | J14: ITBIS 18% | K14: Total
B15: SUB CUENTA
A16: 1100 | B16: 1101 | C16: Productor General 1 | D16: Nombre del Productor | E16: 1 | F16: FLAT | G16: 1 | I16: =E16*G16*H16 -> 0 | J16: =I16*0.18 -> 0 | K16: =I16+J16 -> 0
B17: 1101 | C17: Productor General 2 | D17: Nombre del Productor | E17: 1 | F17: FLAT | G17: 1 | H17: 0 | I17: =E17*G17*H17 -> 0 | J17: =I17*0.18 -> 0 | K17: =I17+J17 -> 0
B18: 1101 | C18: Productor General 3 | D18: Nombre del Productor | E18: 1 | F18: FLAT | G18: 1 | H18: 0 | I18: =E18*G18*H18 -> 0 | J18: =I18*0.18 -> 0 | K18: =I18+J18 -> 0
B19: 1102 | C19: Elaboración de Presupuesto y Plan de Rodaje | D19: Nombre suplidor | E19: 1 | F19: FLAT | G19: 1 | H19: 0 | I19: =E19*G19*H19 -> 0 | J19: =I19*0.18 -> 0 | K19: =I19+J19 -> 0
A20: 1100 | B20: SUB TOTAL | I20: =I16+I17+I18+I19 -> 0 | J20: =J16+J17+J18+J19 -> 0 | K20: =K16+K17+K18+K19 -> 0
A21: Account | B21: 1200 | C21: Director | D21: Descripción | E21: Cantidad | F21: Unidad | G21: X | H21: Monto unitario | I21: Sub-Total | J21: ITBIS 18% | K21: Total
B22: SUB CUENTA
A23: 1200 | B23: 1201 | C23: Director | D23: Nombre del Director | E23: 1 | F23: FLAT | G23: 1 | I23: =E23*G23*H23 -> 0 | J23: =I23*0.18 -> 0 | K23: =I23+J23 -> 0
A24: 1200 | B24: SUB TOTAL | I24: =I23 -> 0 | J24: =J23 -> 0 | K24: =SUM(K23:K23) -> 0
A25: Account | B25: 1300 | C25: Cast | D25: Descripción | E25: Cantidad | F25: Unidad | G25: X | H25: Monto unitario | I25: Sub-Total | J25: ITBIS 18% | K25: Total
B26: SUB CUENTA
A27: 1300 | B27: 1301 | C27: Reparto Principal | D27: Actor / Personaje | E27: 1 | F27: SEMANA | G27: 1 | H27: 0 | I27: =E27*G27*H27 -> 0 | J27: =I27*0.18 -> 0 | K27: =I27+J27 -> 0
A28: 1300 | B28: 1301 | C28: Reparto Principal | D28: Actor / Personaje | E28: 1 | F28: SEMANA | G28: 1 | H28: 0 | I28: =E28*G28*H28 -> 0 | J28: =I28*0.18 -> 0 | K28: =I28+J28 -> 0
A29: 1300 | B29: 1301 | C29: Reparto Principal | D29: Actor / Personaje | E29: 1 | F29: SEMANA | G29: 1 | I29: =E29*G29*H29 -> 0 | J29: =I29*0.18 -> 0 | K29: =I29+J29 -> 0
A30: 1300 | B30: 1302 | C30: Reparto Secundario | D30: Actor / Personaje Secundario | E30: 1 | F30: SEMANA | G30: 1 | H30: 0 | I30: =E30*G30*H30 -> 0 | J30: =I30*0.18 -> 0 | K30: =I30+J30 -> 0
A31: 1300 | B31: 1302 | C31: Reparto Secundario | D31: Actor / Personaje Secundario | E31: 1 | F31: SEMANA | G31: 1 | I31: =E31*G31*H31 -> 0 | J31: =I31*0.18 -> 0 | K31: =I31+J31 -> 0
A32: 1300 | B32: 1302 | C32: Reparto Secundario | D32: Actor / Personaje Secundario | E32: 1 | F32: SEMANA | G32: 1 | H32: 0 | I32: =E32*G32*H32 -> 0 | J32: =I32*0.18 -> 0 | K32: =I32+J32 -> 0
A33: 1300 | B33: SUB TOTAL | I33: =SUM(I27+I28+I29+I30+I31+I32) -> 0 | J33: =SUM(J27+J28+J29+J30+J31+J32) -> 0 | K33: =SUM(K27:K32) -> 0
A34: Account | B34: 1400 | C34: Atl Viajes y Hospedaje | D34: Descripción | E34: Cantidad | F34: Unidad | G34: X | H34: Monto unitario | I34: Sub-Total | J34: ITBIS 18% | K34: Total
A35: 1400 | B35: SUB CUENTA
A36: 1400 | B36: 1401 | C36: Tickets Aéreos | D36: Pasajero / Destino | E36: 1 | F36: SEMANA | G36: 1 | I36: =E36*G36*H36 -> 0 | J36: =I36*0.18 -> 0 | K36: =I36+J36 -> 0
A37: 1400 | B37: 1401 | C37: Tickets Aéreos | D37: Pasajero / Destino | E37: 1 | F37: SEMANA | G37: 1 | H37: 0 | I37: =E37*G37*H37 -> 0 | J37: =I37*0.18 -> 0 | K37: =I37+J37 -> 0
A38: 1400 | B38: 1401 | C38: Tickets Aéreos | D38: Pasajero / Destino | E38: 1 | F38: SEMANA | G38: 1 | H38: 0 | I38: =E38*G38*H38 -> 0 | J38: =I38*0.18 -> 0 | K38: =I38+J38 -> 0
A39: 1400 | B39: 1402 | C39: Hospedaje | D39: Posición / Nombre | E39: 1 | F39: SEMANA | G39: 1 | H39: 0 | I39: =E39*G39*H39 -> 0 | J39: =I39*0.18 -> 0 | K39: =I39+J39 -> 0
A40: 1400 | B40: 1402 | C40: Hospedaje | D40: Pre | E40: 1 | F40: SEMANA | G40: 1 | H40: 0 | I40: =E40*G40*H40 -> 0 | J40: =I40*0.18 -> 0 | K40: =I40+J40 -> 0
A41: 1400 | B41: 1402 | C41: Hospedaje | D41: Rodaje | E41: 1 | F41: SEMANA | G41: 1 | H41: 0 | I41: =E41*G41*H41 -> 0 | J41: =I41*0.18 -> 0 | K41: =I41+J41 -> 0
...

Sheet Listas
A3: TIPO DE PAGO | B3: MONEDA
A4: DIA | B4: PESO DOMINICANO
A5: SEMANA | B5: DOLAR USA
A6: FLAT
A7: MENSUAL
A8: POR PÁG. DE GUION
A9: MEDIA JORNADA
A10: JORNADA COMPLETA
A11: POR IDIOMA
